BEGIN:VCALENDAR
VERSION:2.0
PRODID:-//Vaskakas Bábszínház - ECPv5.12.4//NONSGML v1.0//EN
CALSCALE:GREGORIAN
METHOD:PUBLISH
X-WR-CALNAME:Vaskakas Bábszínház
X-ORIGINAL-URL:https://vaskakas.hu
X-WR-CALDESC:Events for Vaskakas Bábszínház
REFRESH-INTERVAL;VALUE=DURATION:PT1H
X-Robots-Tag:noindex
X-PUBLISHED-TTL:PT1H
BEGIN:VTIMEZONE
TZID:UTC
BEGIN:STANDARD
TZOFFSETFROM:+0000
TZOFFSETTO:+0000
TZNAME:UTC
DTSTART:20260101T000000
END:STANDARD
END:VTIMEZONE
BEGIN:VEVENT
DTSTART;TZID=UTC:20260509T100000
DTEND;TZID=UTC:20260509T104000
DTSTAMP:20260421T082051
CREATED:20230830T185710Z
LAST-MODIFIED:20260415T095240Z
UID:35964-1778320800-1778323200@vaskakas.hu
SUMMARY:Nem\, nem\, hanem
DESCRIPTION:Nem\, nem\, hanem \nMi repül el\, ha a kezünk nem fogja?\nA kréta? A bögre?\nAnyustul a szoknya?\nA sajtos vagy más ízesítésű pufi?\nA plüssmadár?\nNem\, nem\, hanem a lufi. \nAlkotók:\nVarró Dániel versei alapján a szöveget szerkesztette: Ujvári Janka (Jászai Mari-díjas)\nJelmeztervező: Tresz Zsuzsa\nZeneszerző: Rab Viki\nRendező: Ujvári Janka (Jászai Mari-díjas) \nSzereplők:\nRagán Edit\nSzukenyik Tamás
URL:https://vaskakas.hu/event/nem-nem-hanem-2/2026-05-09/
CATEGORIES:0-4 éves korig
ATTACH;FMTTYPE=image/jpeg:https://vaskakas.hu/wp-content/uploads/2022/03/Nem-nem-hanem-vaskakas-1.jpg
END:VEVENT
BEGIN:VEVENT
DTSTART;TZID=UTC:20260509T110000
DTEND;TZID=UTC:20260509T114000
DTSTAMP:20260421T082051
CREATED:20230830T185710Z
LAST-MODIFIED:20260415T095240Z
UID:108084-1778324400-1778326800@vaskakas.hu
SUMMARY:Nem\, nem\, hanem
DESCRIPTION:Nem\, nem\, hanem \nMi repül el\, ha a kezünk nem fogja?\nA kréta? A bögre?\nAnyustul a szoknya?\nA sajtos vagy más ízesítésű pufi?\nA plüssmadár?\nNem\, nem\, hanem a lufi. \nAlkotók:\nVarró Dániel versei alapján a szöveget szerkesztette: Ujvári Janka (Jászai Mari-díjas)\nJelmeztervező: Tresz Zsuzsa\nZeneszerző: Rab Viki\nRendező: Ujvári Janka (Jászai Mari-díjas) \nSzereplők:\nRagán Edit\nSzukenyik Tamás
URL:https://vaskakas.hu/event/nem-nem-hanem-2/2026-05-09/2/
CATEGORIES:0-4 éves korig
ATTACH;FMTTYPE=image/jpeg:https://vaskakas.hu/wp-content/uploads/2022/03/Nem-nem-hanem-vaskakas-1.jpg
END:VEVENT
END:VCALENDAR